Workbook

Sheet Lasīt mani
B2: Darba un maiņu grafiks
B3: Bezmaksas veidne no darbalaikauzskaite.lv
B5: Grafiks | C5: Šūnā C3 norādiet mēneša pirmo datumu. Dienu numuri un nedēļas dienas aprēķināsies automātiski; brīvdienas un svētku dienas ir iekrāsotas.
B6: Maiņu kodi | C6: Katrā šūnā ierakstiet maiņas kodu no lapas "Kodi" (piem. D, N, R) vai stundu skaitu ar ciparu. Kodus, laikus un pārtraukumus var mainīt – stundas pārrēķināsies.
B7: Stundas un norma | C7: Katram darbiniekam tiek saskaitītas plānotās stundas un nakts stundas un salīdzinātas ar mēneša normu. Atvaļinājuma (A) un slimības (S) dienas samazina individuālo normu.
B8: Likums | C8: Maiņu grafiks darbiniekiem jāpaziņo vismaz mēnesi iepriekš; divas maiņas pēc kārtas ir aizliegtas (Darba likuma 139. pants). Summētā darba laikā – ne vairāk kā 24 h pēc kārtas un 56 h nedēļā (140. pants).
B10: Veidne ir informatīva. Pārbaudiet aprēķinus atbilstoši sava uzņēmuma darba kārtības noteikumiem un koplīgumam.
B12: Excel kļūst par šauru? | C12: Automatizētai darba laika uzskaitei – FjordHub →

Sheet Grafiks
A1: Darba un maiņu grafiks
A2: Bezmaksas veidne no darbalaikauzskaite.lv | P2: Automatizētai darba laika uzskaitei – FjordHub →
A3: Mēnesis (1. datums) | C3: 46296 | J3: Dienas norma, h | N3: 8
A4: Uzņēmums / nodaļa | J4: Mēneša norma, h | N4: =SUMIFS('Kalendārs'!$F$2:$F$734,'Kalendārs'!$A$2:$A$734,">="&$C$3,'Kalendārs'!$A$2:$A$734,"<="&EOMONTH($C$3,0))
A5: Darbinieks | B5: =IF(MONTH($C$3+0)=MONTH($C$3),DAY($C$3+0),"") | C5: =IF(MONTH($C$3+1)=MONTH($C$3),DAY($C$3+1),"") | D5: =IF(MONTH($C$3+2)=MONTH($C$3),DAY($C$3+2),"") | E5: =IF(MONTH($C$3+3)=MONTH($C$3),DAY($C$3+3),"") | F5: =IF(MONTH($C$3+4)=MONTH($C$3),DAY($C$3+4),"") | G5: =IF(MONTH($C$3+5)=MONTH($C$3),DAY($C$3+5),"") | H5: =IF(MONTH($C$3+6)=MONTH($C$3),DAY($C$3+6),"") | I5: =IF(MONTH($C$3+7)=MONTH($C$3),DAY($C$3+7),"") | J5: =IF(MONTH($C$3+8)=MONTH($C$3),DAY($C$3+8),"") | K5: =IF(MONTH($C$3+9)=MONTH($C$3),DAY($C$3+9),"") | L5: =IF(MONTH($C$3+10)=MONTH($C$3),DAY($C$3+10),"") | M5: =IF(MONTH($C$3+11)=MONTH($C$3),DAY($C$3+11),"") | N5: =IF(MONTH($C$3+12)=MONTH($C$3),DAY($C$3+12),"") | O5: =IF(MONTH($C$3+13)=MONTH($C$3),DAY($C$3+13),"") | P5: =IF(MONTH($C$3+14)=MONTH($C$3),DAY($C$3+14),"") | Q5: =IF(MONTH($C$3+15)=MONTH($C$3),DAY($C$3+15),"") | R5: =IF(MONTH($C$3+16)=MONTH($C$3),DAY($C$3+16),"") | S5: =IF(MONTH($C$3+17)=MONTH($C$3),DAY($C$3+17),"") | T5: =IF(MONTH($C$3+18)=MONTH($C$3),DAY($C$3+18),"") | U5: =IF(MONTH($C$3+19)=MONTH($C$3),DAY($C$3+19),"") | V5: =IF(MONTH($C$3+20)=MONTH($C$3),DAY($C$3+20),"") | W5: =IF(MONTH($C$3+21)=MONTH($C$3),DAY($C$3+21),"") | X5: =IF(MONTH($C$3+22)=MONTH($C$3),DAY($C$3+22),"") | Y5: =IF(MONTH($C$3+23)=MONTH($C$3),DAY($C$3+23),"") | Z5: =IF(MONTH($C$3+24)=MONTH($C$3),DAY($C$3+24),"") | AA5: =IF(MONTH($C$3+25)=MONTH($C$3),DAY($C$3+25),"") | AB5: =IF(MONTH($C$3+26)=MONTH($C$3),DAY($C$3+26),"") | AC5: =IF(MONTH($C$3+27)=MONTH($C$3),DAY($C$3+27),"") | AD5: =IF(MONTH($C$3+28)=MONTH($C$3),DAY($C$3+28),"") | AE5: =IF(MONTH($C$3+29)=MONTH($C$3),DAY($C$3+29),"") | AF5: =IF(MONTH($C$3+30)=MONTH($C$3),DAY($C$3+30),"") | AG5: Stundas | AH5: Nakts h | AI5: Prombūtne, d | AJ5: Norma, h | AK5: Starpība
B6: =IF(B5="","",CHOOSE(WEEKDAY($C$3+0,2),"P","O","T","C","Pk","S","Sv")) | C6: =IF(C5="","",CHOOSE(WEEKDAY($C$3+1,2),"P","O","T","C","Pk","S","Sv")) | D6: =IF(D5="","",CHOOSE(WEEKDAY($C$3+2,2),"P","O","T","C","Pk","S","Sv")) | E6: =IF(E5="","",CHOOSE(WEEKDAY($C$3+3,2),"P","O","T","C","Pk","S","Sv")) | F6: =IF(F5="","",CHOOSE(WEEKDAY($C$3+4,2),"P","O","T","C","Pk","S","Sv")) | G6: =IF(G5="","",CHOOSE(WEEKDAY($C$3+5,2),"P","O","T","C","Pk","S","Sv")) | H6: =IF(H5="","",CHOOSE(WEEKDAY($C$3+6,2),"P","O","T","C","Pk","S","Sv")) | I6: =IF(I5="","",CHOOSE(WEEKDAY($C$3+7,2),"P","O","T","C","Pk","S","Sv")) | J6: =IF(J5="","",CHOOSE(WEEKDAY($C$3+8,2),"P","O","T","C","Pk","S","Sv")) | K6: =IF(K5="","",CHOOSE(WEEKDAY($C$3+9,2),"P","O","T","C","Pk","S","Sv")) | L6: =IF(L5="","",CHOOSE(WEEKDAY($C$3+10,2),"P","O","T","C","Pk","S","Sv")) | M6: =IF(M5="","",CHOOSE(WEEKDAY($C$3+11,2),"P","O","T","C","Pk","S","Sv")) | N6: =IF(N5="","",CHOOSE(WEEKDAY($C$3+12,2),"P","O","T","C","Pk","S","Sv")) | O6: =IF(O5="","",CHOOSE(WEEKDAY($C$3+13,2),"P","O","T","C","Pk","S","Sv")) | P6: =IF(P5="","",CHOOSE(WEEKDAY($C$3+14,2),"P","O","T","C","Pk","S","Sv")) | Q6: =IF(Q5="","",CHOOSE(WEEKDAY($C$3+15,2),"P","O","T","C","Pk","S","Sv")) | R6: =IF(R5="","",CHOOSE(WEEKDAY($C$3+16,2),"P","O","T","C","Pk","S","Sv")) | S6: =IF(S5="","",CHOOSE(WEEKDAY($C$3+17,2),"P","O","T","C","Pk","S","Sv")) | T6: =IF(T5="","",CHOOSE(WEEKDAY($C$3+18,2),"P","O","T","C","Pk","S","Sv")) | U6: =IF(U5="","",CHOOSE(WEEKDAY($C$3+19,2),"P","O","T","C","Pk","S","Sv")) | V6: =IF(V5="","",CHOOSE(WEEKDAY($C$3+20,2),"P","O","T","C","Pk","S","Sv")) | W6: =IF(W5="","",CHOOSE(WEEKDAY($C$3+21,2),"P","O","T","C","Pk","S","Sv")) | X6: =IF(X5="","",CHOOSE(WEEKDAY($C$3+22,2),"P","O","T","C","Pk","S","Sv")) | Y6: =IF(Y5="","",CHOOSE(WEEKDAY($C$3+23,2),"P","O","T","C","Pk","S","Sv")) | Z6: =IF(Z5="","",CHOOSE(WEEKDAY($C$3+24,2),"P","O","T","C","Pk","S","Sv")) | AA6: =IF(AA5="","",CHOOSE(WEEKDAY($C$3+25,2),"P","O","T","C","Pk","S","Sv")) | AB6: =IF(AB5="","",CHOOSE(WEEKDAY($C$3+26,2),"P","O","T","C","Pk","S","Sv")) | AC6: =IF(AC5="","",CHOOSE(WEEKDAY($C$3+27,2),"P","O","T","C","Pk","S","Sv")) | AD6: =IF(AD5="","",CHOOSE(WEEKDAY($C$3+28,2),"P","O","T","C","Pk","S","Sv")) | AE6: =IF(AE5="","",CHOOSE(WEEKDAY($C$3+29,2),"P","O","T","C","Pk","S","Sv")) | AF6: =IF(AF5="","",CHOOSE(WEEKDAY($C$3+30,2),"P","O","T","C","Pk","S","Sv"))
A7: Anna Bērziņa | B7: D | C7: D | D7: B | E7: B | F7: D | G7: D | H7: D | I7: D | J7: D | K7: B | L7: B | M7: D | N7: D | O7: D | P7: D | Q7: D | R7: B | S7: B | T7: D | U7: D | V7: D | W7: D | X7: D | Y7: B | Z7: B | AA7: D | AB7: D | AC7: D | AD7: D | AE7: D | AG7: =IF($A7="","",SUMPRODUCT(SUMIF('Kodi'!$A$2:$A$30,B7:AF7,'Kodi'!$F$2:$F$30))+SUM(B7:AF7)) | AH7: =IF($A7="","",SUMPRODUCT(SUMIF('Kodi'!$A$2:$A$30,B7:AF7,'Kodi'!$G$2:$G$30))) | AI7: =IF($A7="","",SUMPRODUCT(((B7:AF7="A")+(B7:AF7="S"))*(B$6:AF$6<>"S")*(B$6:AF$6<>"Sv")*(B$6:AF$6<>""))) | AJ7: =IF($A7="","",MAX(0,$N$4-AI7*$N$3)) | AK7: =IF($A7="","",AG7-AJ7)
A8: Jānis Ozols | B8: R | C8: N | D8: B | E8: B | F8: R | G8: N | H8: B | I8: B | J8: R | K8: N | L8: B | M8: B | N8: R | O8: N | P8: B | Q8: B | R8: R | S8: N | T8: B | U8: B | V8: R | W8: N | X8: B | Y8: B | Z8: R | AA8: N | AB8: B | AC8: B | AD8: R | AE8: N | AG8: =IF($A8="","",SUMPRODUCT(SUMIF('Kodi'!$A$2:$A$30,B8:AF8,'Kodi'!$F$2:$F$30))+SUM(B8:AF8)) | AH8: =IF($A8="","",SUMPRODUCT(SUMIF('Kodi'!$A$2:$A$30,B8:AF8,'Kodi'!$G$2:$G$30))) | AI8: =IF($A8="","",SUMPRODUCT(((B8:AF8="A")+(B8:AF8="S"))*(B$6:AF$6<>"S")*(B$6:AF$6<>"Sv")*(B$6:AF$6<>""))) | AJ8: =IF($A8="","",MAX(0,$N$4-AI8*$N$3)) | AK8: =IF($A8="","",AG8-AJ8)
A9: Līga Kalniņa | B9: B | C9: R | D9: N | E9: B | F9: B | G9: R | H9: N | I9: B | J9: B | K9: R | L9: N | M9: B | N9: B | O9: A | P9: A | Q9: A | R9: A | S9: A | T9: B | U9: R | V9: N | W9: B | X9: B | Y9: R | Z9: N | AA9: B | AB9: B | AC9: R | AD9: N | AE9: B | AG9: =IF($A9="","",SUMPRODUCT(SUMIF('Kodi'!$A$2:$A$30,B9:AF9,'Kodi'!$F$2:$F$30))+SUM(B9:AF9)) | AH9: =IF($A9="","",SUMPRODUCT(SUMIF('Kodi'!$A$2:$A$30,B9:AF9,'Kodi'!$G$2:$G$30))) | AI9: =IF($A9="","",SUMPRODUCT(((B9:AF9="A")+(B9:AF9="S"))*(B$6:AF$6<>"S")*(B$6:AF$6<>"Sv")*(B$6:AF$6<>""))) | AJ9: =IF($A9="","",MAX(0,$N$4-AI9*$N$3)) | AK9: =IF($A9="","",AG9-AJ9)
AG10: =IF($A10="","",SUMPRODUCT(SUMIF('Kodi'!$A$2:$A$30,B10:AF10,'Kodi'!$F$2:$F$30))+SUM(B10:AF10)) | AH10: =IF($A10="","",SUMPRODUCT(SUMIF('Kodi'!$A$2:$A$30,B10:AF10,'Kodi'!$G$2:$G$30))) | AI10: =IF($A10="","",SUMPRODUCT(((B10:AF10="A")+(B10:AF10="S"))*(B$6:AF$6<>"S")*(B$6:AF$6<>"Sv")*(B$6:AF$6<>""))) | AJ10: =IF($A10="","",MAX(0,$N$4-AI10*$N$3)) | AK10: =IF($A10="","",AG10-AJ10)
AG11: =IF($A11="","",SUMPRODUCT(SUMIF('Kodi'!$A$2:$A$30,B11:AF11,'Kodi'!$F$2:$F$30))+SUM(B11:AF11)) | AH11: =IF($A11="","",SUMPRODUCT(SUMIF('Kodi'!$A$2:$A$30,B11:AF11,'Kodi'!$G$2:$G$30))) | AI11: =IF($A11="","",SUMPRODUCT(((B11:AF11="A")+(B11:AF11="S"))*(B$6:AF$6<>"S")*(B$6:AF$6<>"Sv")*(B$6:AF$6<>""))) | AJ11: =IF($A11="","",MAX(0,$N$4-AI11*$N$3)) | AK11: =IF($A11="","",AG11-AJ11)
AG12: =IF($A12="","",SUMPRODUCT(SUMIF('Kodi'!$A$2:$A$30,B12:AF12,'Kodi'!$F$2:$F$30))+SUM(B12:AF12)) | AH12: =IF($A12="","",SUMPRODUCT(SUMIF('Kodi'!$A$2:$A$30,B12:AF12,'Kodi'!$G$2:$G$30))) | AI12: =IF($A12="","",SUMPRODUCT(((B12:AF12="A")+(B12:AF12="S"))*(B$6:AF$6<>"S")*(B$6:AF$6<>"Sv")*(B$6:AF$6<>""))) | AJ12: =IF($A12="","",MAX(0,$N$4-AI12*$N$3)) | AK12: =IF($A12="","",AG12-AJ12)
AG13: =IF($A13="","",SUMPRODUCT(SUMIF('Kodi'!$A$2:$A$30,B13:AF13,'Kodi'!$F$2:$F$30))+SUM(B13:AF13)) | AH13: =IF($A13="","",SUMPRODUCT(SUMIF('Kodi'!$A$2:$A$30,B13:AF13,'Kodi'!$G$2:$G$30))) | AI13: =IF($A13="","",SUMPRODUCT(((B13:AF13="A")+(B13:AF13="S"))*(B$6:AF$6<>"S")*(B$6:AF$6<>"Sv")*(B$6:AF$6<>""))) | AJ13: =IF($A13="","",MAX(0,$N$4-AI13*$N$3)) | AK13: =IF($A13="","",AG13-AJ13)
AG14: =IF($A14="","",SUMPRODUCT(SUMIF('Kodi'!$A$2:$A$30,B14:AF14,'Kodi'!$F$2:$F$30))+SUM(B14:AF14)) | AH14: =IF($A14="","",SUMPRODUCT(SUMIF('Kodi'!$A$2:$A$30,B14:AF14,'Kodi'!$G$2:$G$30))) | AI14: =IF($A14="","",SUMPRODUCT(((B14:AF14="A")+(B14:AF14="S"))*(B$6:AF$6<>"S")*(B$6:AF$6<>"Sv")*(B$6:AF$6<>""))) | AJ14: =IF($A14="","",MAX(0,$N$4-AI14*$N$3)) | AK14: =IF($A14="","",AG14-AJ14)
AG15: =IF($A15="","",SUMPRODUCT(SUMIF('Kodi'!$A$2:$A$30,B15:AF15,'Kodi'!$F$2:$F$30))+SUM(B15:AF15)) | AH15: =IF($A15="","",SUMPRODUCT(SUMIF('Kodi'!$A$2:$A$30,B15:AF15,'Kodi'!$G$2:$G$30))) | AI15: =IF($A15="","",SUMPRODUCT(((B15:AF15="A")+(B15:AF15="S"))*(B$6:AF$6<>"S")*(B$6:AF$6<>"Sv")*(B$6:AF$6<>""))) | AJ15: =IF($A15="","",MAX(0,$N$4-AI15*$N$3)) | AK15: =IF($A15="","",AG15-AJ15)
AG16: =IF($A16="","",SUMPRODUCT(SUMIF('Kodi'!$A$2:$A$30,B16:AF16,'Kodi'!$F$2:$F$30))+SUM(B16:AF16)) | AH16: =IF($A16="","",SUMPRODUCT(SUMIF('Kodi'!$A$2:$A$30,B16:AF16,'Kodi'!$G$2:$G$30))) | AI16: =IF($A16="","",SUMPRODUCT(((B16:AF16="A")+(B16:AF16="S"))*(B$6:AF$6<>"S")*(B$6:AF$6<>"Sv")*(B$6:AF$6<>""))) | AJ16: =IF($A16="","",MAX(0,$N$4-AI16*$N$3)) | AK16: =IF($A16="","",AG16-AJ16)
AG17: =IF($A17="","",SUMPRODUCT(SUMIF('Kodi'!$A$2:$A$30,B17:AF17,'Kodi'!$F$2:$F$30))+SUM(B17:AF17)) | AH17: =IF($A17="","",SUMPRODUCT(SUMIF('Kodi'!$A$2:$A$30,B17:AF17,'Kodi'!$G$2:$G$30))) | AI17: =IF($A17="","",SUMPRODUCT(((B17:AF17="A")+(B17:AF17="S"))*(B$6:AF$6<>"S")*(B$6:AF$6<>"Sv")*(B$6:AF$6<>""))) | AJ17: =IF($A17="","",MAX(0,$N$4-AI17*$N$3)) | AK17: =IF($A17="","",AG17-AJ17)
AG18: =IF($A18="","",SUMPRODUCT(SUMIF('Kodi'!$A$2:$A$30,B18:AF18,'Kodi'!$F$2:$F$30))+SUM(B18:AF18)) | AH18: =IF($A18="","",SUMPRODUCT(SUMIF('Kodi'!$A$2:$A$30,B18:AF18,'Kodi'!$G$2:$G$30))) | AI18: =IF($A18="","",SUMPRODUCT(((B18:AF18="A")+(B18:AF18="S"))*(B$6:AF$6<>"S")*(B$6:AF$6<>"Sv")*(B$6:AF$6<>""))) | AJ18: =IF($A18="","",MAX(0,$N$4-AI18*$N$3)) | AK18: =IF($A18="","",AG18-AJ18)
AG19: =IF($A19="","",SUMPRODUCT(SUMIF('Kodi'!$A$2:$A$30,B19:AF19,'Kodi'!$F$2:$F$30))+SUM(B19:AF19)) | AH19: =IF($A19="","",SUMPRODUCT(SUMIF('Kodi'!$A$2:$A$30,B19:AF19,'Kodi'!$G$2:$G$30))) | AI19: =IF($A19="","",SUMPRODUCT(((B19:AF19="A")+(B19:AF19="S"))*(B$6:AF$6<>"S")*(B$6:AF$6<>"Sv")*(B$6:AF$6<>""))) | AJ19: =IF($A19="","",MAX(0,$N$4-AI19*$N$3)) | AK19: =IF($A19="","",AG19-AJ19)
AG20: =IF($A20="","",SUMPRODUCT(SUMIF('Kodi'!$A$2:$A$30,B20:AF20,'Kodi'!$F$2:$F$30))+SUM(B20:AF20)) | AH20: =IF($A20="","",SUMPRODUCT(SUMIF('Kodi'!$A$2:$A$30,B20:AF20,'Kodi'!$G$2:$G$30))) | AI20: =IF($A20="","",SUMPRODUCT(((B20:AF20="A")+(B20:AF20="S"))*(B$6:AF$6<>"S")*(B$6:AF$6<>"Sv")*(B$6:AF$6<>""))) | AJ20: =IF($A20="","",MAX(0,$N$4-AI20*$N$3)) | AK20: =IF($A20="","",AG20-AJ20)
AG21: =IF($A21="","",SUMPRODUCT(SUMIF('Kodi'!$A$2:$A$30,B21:AF21,'Kodi'!$F$2:$F$30))+SUM(B21:AF21)) | AH21: =IF($A21="","",SUMPRODUCT(SUMIF('Kodi'!$A$2:$A$30,B21:AF21,'Kodi'!$G$2:$G$30))) | AI21: =IF($A21="","",SUMPRODUCT(((B21:AF21="A")+(B21:AF21="S"))*(B$6:AF$6<>"S")*(B$6:AF$6<>"Sv")*(B$6:AF$6<>""))) | AJ21: =IF($A21="","",MAX(0,$N$4-AI21*$N$3)) | AK21: =IF($A21="","",AG21-AJ21)
... AG36: =IF($A36="","",SUMPRODUCT(SUMIF('Kodi'!$A$2:$A$30,B36:AF36,'Kodi'!$F$2:$F$30))+SUM(B36:AF36)) | AH36: =IF($A36="","",SUMPRODUCT(SUMIF('Kodi'!$A$2:$A$30,B36:AF36,'Kodi'!$G$2:$G$30))) | AI36: =IF($A36="","",SUMPRODUCT(((B36:AF36="A")+(B36:AF36="S"))*(B$6:AF$6<>"S")*(B$6:AF$6<>"Sv")*(B$6:AF$6<>""))) | AJ36: =IF($A36="","",MAX(0,$N$4-AI36*$N$3)) | AK36: =IF($A36="","",AG36-AJ36)
A38: Iekrāsojums: pelēks – brīvdiena, oranžs – svētku diena, violets – nakts maiņa, zaļš – prombūtne. Kodus un maiņu laikus maina lapā "Kodi".

Sheet Kodi
A1: Kods | B1: Nosaukums | C1: Sākums | D1: Beigas | E1: Pārtraukums, min | F1: Stundas | G1: Nakts stundas | I1: Ja sākums un beigas sakrīt, tiek pieņemta 24 h maiņa. Maiņa, kuras beigas ir agrāk par sākumu, beidzas nākamajā dienā. Nakts laiks 22:00–06:00; pārtraukums no nakts stundām atskaitīts proporcionāli.
A2: D | B2: Dienas darbs 8 h | C2: 0.33333333 | D2: 0.70833333 | E2: 60 | F2: =IF(OR(C2="",D2=""),0,ROUND(MAX(0,IF(MOD(D2-C2,1)=0,1,MOD(D2-C2,1))*24-N(E2)/60),2)) | G2: =IF(OR(C2="",D2=""),0,ROUND(MAX(0,(IF(MOD(D2-C2,1)=0,1,MOD(D2-C2,1))-(MAX(0,MIN(C2+IF(MOD(D2-C2,1)=0,1,MOD(D2-C2,1)),22/24)-MAX(C2,6/24))+MAX(0,MIN(C2+IF(MOD(D2-C2,1)=0,1,MOD(D2-C2,1)),46/24)-MAX(C2,30/24))))*24*F2/(IF(MOD(D2-C2,1)=0,1,MOD(D2-C2,1))*24)),2))
A3: R | B3: Dienas maiņa 12 h | C3: 0.33333333 | D3: 0.83333333 | E3: 30 | F3: =IF(OR(C3="",D3=""),0,ROUND(MAX(0,IF(MOD(D3-C3,1)=0,1,MOD(D3-C3,1))*24-N(E3)/60),2)) | G3: =IF(OR(C3="",D3=""),0,ROUND(MAX(0,(IF(MOD(D3-C3,1)=0,1,MOD(D3-C3,1))-(MAX(0,MIN(C3+IF(MOD(D3-C3,1)=0,1,MOD(D3-C3,1)),22/24)-MAX(C3,6/24))+MAX(0,MIN(C3+IF(MOD(D3-C3,1)=0,1,MOD(D3-C3,1)),46/24)-MAX(C3,30/24))))*24*F3/(IF(MOD(D3-C3,1)=0,1,MOD(D3-C3,1))*24)),2))
A4: N | B4: Nakts maiņa 12 h | C4: 0.83333333 | D4: 0.33333333 | E4: 30 | F4: =IF(OR(C4="",D4=""),0,ROUND(MAX(0,IF(MOD(D4-C4,1)=0,1,MOD(D4-C4,1))*24-N(E4)/60),2)) | G4: =IF(OR(C4="",D4=""),0,ROUND(MAX(0,(IF(MOD(D4-C4,1)=0,1,MOD(D4-C4,1))-(MAX(0,MIN(C4+IF(MOD(D4-C4,1)=0,1,MOD(D4-C4,1)),22/24)-MAX(C4,6/24))+MAX(0,MIN(C4+IF(MOD(D4-C4,1)=0,1,MOD(D4-C4,1)),46/24)-MAX(C4,30/24))))*24*F4/(IF(MOD(D4-C4,1)=0,1,MOD(D4-C4,1))*24)),2))
A5: V | B5: Vakara maiņa | C5: 0.58333333 | D5: 0.9375 | E5: 30 | F5: =IF(OR(C5="",D5=""),0,ROUND(MAX(0,IF(MOD(D5-C5,1)=0,1,MOD(D5-C5,1))*24-N(E5)/60),2)) | G5: =IF(OR(C5="",D5=""),0,ROUND(MAX(0,(IF(MOD(D5-C5,1)=0,1,MOD(D5-C5,1))-(MAX(0,MIN(C5+IF(MOD(D5-C5,1)=0,1,MOD(D5-C5,1)),22/24)-MAX(C5,6/24))+MAX(0,MIN(C5+IF(MOD(D5-C5,1)=0,1,MOD(D5-C5,1)),46/24)-MAX(C5,30/24))))*24*F5/(IF(MOD(D5-C5,1)=0,1,MOD(D5-C5,1))*24)),2))
A6: 24 | B6: Diennakts maiņa | C6: 0.33333333 | D6: 0.33333333 | E6: 60 | F6: =IF(OR(C6="",D6=""),0,ROUND(MAX(0,IF(MOD(D6-C6,1)=0,1,MOD(D6-C6,1))*24-N(E6)/60),2)) | G6: =IF(OR(C6="",D6=""),0,ROUND(MAX(0,(IF(MOD(D6-C6,1)=0,1,MOD(D6-C6,1))-(MAX(0,MIN(C6+IF(MOD(D6-C6,1)=0,1,MOD(D6-C6,1)),22/24)-MAX(C6,6/24))+MAX(0,MIN(C6+IF(MOD(D6-C6,1)=0,1,MOD(D6-C6,1)),46/24)-MAX(C6,30/24))))*24*F6/(IF(MOD(D6-C6,1)=0,1,MOD(D6-C6,1))*24)),2))
A7: B | B7: Brīvs | E7: 0 | F7: =IF(OR(C7="",D7=""),0,ROUND(MAX(0,IF(MOD(D7-C7,1)=0,1,MOD(D7-C7,1))*24-N(E7)/60),2)) | G7: =IF(OR(C7="",D7=""),0,ROUND(MAX(0,(IF(MOD(D7-C7,1)=0,1,MOD(D7-C7,1))-(MAX(0,MIN(C7+IF(MOD(D7-C7,1)=0,1,MOD(D7-C7,1)),22/24)-MAX(C7,6/24))+MAX(0,MIN(C7+IF(MOD(D7-C7,1)=0,1,MOD(D7-C7,1)),46/24)-MAX(C7,30/24))))*24*F7/(IF(MOD(D7-C7,1)=0,1,MOD(D7-C7,1))*24)),2))
A8: A | B8: Atvaļinājums | E8: 0 | F8: =IF(OR(C8="",D8=""),0,ROUND(MAX(0,IF(MOD(D8-C8,1)=0,1,MOD(D8-C8,1))*24-N(E8)/60),2)) | G8: =IF(OR(C8="",D8=""),0,ROUND(MAX(0,(IF(MOD(D8-C8,1)=0,1,MOD(D8-C8,1))-(MAX(0,MIN(C8+IF(MOD(D8-C8,1)=0,1,MOD(D8-C8,1)),22/24)-MAX(C8,6/24))+MAX(0,MIN(C8+IF(MOD(D8-C8,1)=0,1,MOD(D8-C8,1)),46/24)-MAX(C8,30/24))))*24*F8/(IF(MOD(D8-C8,1)=0,1,MOD(D8-C8,1))*24)),2))
A9: S | B9: Slimība | E9: 0 | F9: =IF(OR(C9="",D9=""),0,ROUND(MAX(0,IF(MOD(D9-C9,1)=0,1,MOD(D9-C9,1))*24-N(E9)/60),2)) | G9: =IF(OR(C9="",D9=""),0,ROUND(MAX(0,(IF(MOD(D9-C9,1)=0,1,MOD(D9-C9,1))-(MAX(0,MIN(C9+IF(MOD(D9-C9,1)=0,1,MOD(D9-C9,1)),22/24)-MAX(C9,6/24))+MAX(0,MIN(C9+IF(MOD(D9-C9,1)=0,1,MOD(D9-C9,1)),46/24)-MAX(C9,30/24))))*24*F9/(IF(MOD(D9-C9,1)=0,1,MOD(D9-C9,1))*24)),2))
F10: =IF(OR(C10="",D10=""),"",ROUND(MAX(0,IF(MOD(D10-C10,1)=0,1,MOD(D10-C10,1))*24-N(E10)/60),2)) | G10: =IF(OR(C10="",D10=""),"",ROUND(MAX(0,(IF(MOD(D10-C10,1)=0,1,MOD(D10-C10,1))-(MAX(0,MIN(C10+IF(MOD(D10-C10,1)=0,1,MOD(D10-C10,1)),22/24)-MAX(C10,6/24))+MAX(0,MIN(C10+IF(MOD(D10-C10,1)=0,1,MOD(D10-C10,1)),46/24)-MAX(C10,30/24))))*24*F10/(IF(MOD(D10-C10,1)=0,1,MOD(D10-C10,1))*24)),2))
F11: =IF(OR(C11="",D11=""),"",ROUND(MAX(0,IF(MOD(D11-C11,1)=0,1,MOD(D11-C11,1))*24-N(E11)/60),2)) | G11: =IF(OR(C11="",D11=""),"",ROUND(MAX(0,(IF(MOD(D11-C11,1)=0,1,MOD(D11-C11,1))-(MAX(0,MIN(C11+IF(MOD(D11-C11,1)=0,1,MOD(D11-C11,1)),22/24)-MAX(C11,6/24))+MAX(0,MIN(C11+IF(MOD(D11-C11,1)=0,1,MOD(D11-C11,1)),46/24)-MAX(C11,30/24))))*24*F11/(IF(MOD(D11-C11,1)=0,1,MOD(D11-C11,1))*24)),2))
F12: =IF(OR(C12="",D12=""),"",ROUND(MAX(0,IF(MOD(D12-C12,1)=0,1,MOD(D12-C12,1))*24-N(E12)/60),2)) | G12: =IF(OR(C12="",D12=""),"",ROUND(MAX(0,(IF(MOD(D12-C12,1)=0,1,MOD(D12-C12,1))-(MAX(0,MIN(C12+IF(MOD(D12-C12,1)=0,1,MOD(D12-C12,1)),22/24)-MAX(C12,6/24))+MAX(0,MIN(C12+IF(MOD(D12-C12,1)=0,1,MOD(D12-C12,1)),46/24)-MAX(C12,30/24))))*24*F12/(IF(MOD(D12-C12,1)=0,1,MOD(D12-C12,1))*24)),2))
F13: =IF(OR(C13="",D13=""),"",ROUND(MAX(0,IF(MOD(D13-C13,1)=0,1,MOD(D13-C13,1))*24-N(E13)/60),2)) | G13: =IF(OR(C13="",D13=""),"",ROUND(MAX(0,(IF(MOD(D13-C13,1)=0,1,MOD(D13-C13,1))-(MAX(0,MIN(C13+IF(MOD(D13-C13,1)=0,1,MOD(D13-C13,1)),22/24)-MAX(C13,6/24))+MAX(0,MIN(C13+IF(MOD(D13-C13,1)=0,1,MOD(D13-C13,1)),46/24)-MAX(C13,30/24))))*24*F13/(IF(MOD(D13-C13,1)=0,1,MOD(D13-C13,1))*24)),2))
F14: =IF(OR(C14="",D14=""),"",ROUND(MAX(0,IF(MOD(D14-C14,1)=0,1,MOD(D14-C14,1))*24-N(E14)/60),2)) | G14: =IF(OR(C14="",D14=""),"",ROUND(MAX(0,(IF(MOD(D14-C14,1)=0,1,MOD(D14-C14,1))-(MAX(0,MIN(C14+IF(MOD(D14-C14,1)=0,1,MOD(D14-C14,1)),22/24)-MAX(C14,6/24))+MAX(0,MIN(C14+IF(MOD(D14-C14,1)=0,1,MOD(D14-C14,1)),46/24)-MAX(C14,30/24))))*24*F14/(IF(MOD(D14-C14,1)=0,1,MOD(D14-C14,1))*24)),2))
F15: =IF(OR(C15="",D15=""),"",ROUND(MAX(0,IF(MOD(D15-C15,1)=0,1,MOD(D15-C15,1))*24-N(E15)/60),2)) | G15: =IF(OR(C15="",D15=""),"",ROUND(MAX(0,(IF(MOD(D15-C15,1)=0,1,MOD(D15-C15,1))-(MAX(0,MIN(C15+IF(MOD(D15-C15,1)=0,1,MOD(D15-C15,1)),22/24)-MAX(C15,6/24))+MAX(0,MIN(C15+IF(MOD(D15-C15,1)=0,1,MOD(D15-C15,1)),46/24)-MAX(C15,30/24))))*24*F15/(IF(MOD(D15-C15,1)=0,1,MOD(D15-C15,1))*24)),2))
F16: =IF(OR(C16="",D16=""),"",ROUND(MAX(0,IF(MOD(D16-C16,1)=0,1,MOD(D16-C16,1))*24-N(E16)/60),2)) | G16: =IF(OR(C16="",D16=""),"",ROUND(MAX(0,(IF(MOD(D16-C16,1)=0,1,MOD(D16-C16,1))-(MAX(0,MIN(C16+IF(MOD(D16-C16,1)=0,1,MOD(D16-C16,1)),22/24)-MAX(C16,6/24))+MAX(0,MIN(C16+IF(MOD(D16-C16,1)=0,1,MOD(D16-C16,1)),46/24)-MAX(C16,30/24))))*24*F16/(IF(MOD(D16-C16,1)=0,1,MOD(D16-C16,1))*24)),2))
F17: =IF(OR(C17="",D17=""),"",ROUND(MAX(0,IF(MOD(D17-C17,1)=0,1,MOD(D17-C17,1))*24-N(E17)/60),2)) | G17: =IF(OR(C17="",D17=""),"",ROUND(MAX(0,(IF(MOD(D17-C17,1)=0,1,MOD(D17-C17,1))-(MAX(0,MIN(C17+IF(MOD(D17-C17,1)=0,1,MOD(D17-C17,1)),22/24)-MAX(C17,6/24))+MAX(0,MIN(C17+IF(MOD(D17-C17,1)=0,1,MOD(D17-C17,1)),46/24)-MAX(C17,30/24))))*24*F17/(IF(MOD(D17-C17,1)=0,1,MOD(D17-C17,1))*24)),2))
F18: =IF(OR(C18="",D18=""),"",ROUND(MAX(0,IF(MOD(D18-C18,1)=0,1,MOD(D18-C18,1))*24-N(E18)/60),2)) | G18: =IF(OR(C18="",D18=""),"",ROUND(MAX(0,(IF(MOD(D18-C18,1)=0,1,MOD(D18-C18,1))-(MAX(0,MIN(C18+IF(MOD(D18-C18,1)=0,1,MOD(D18-C18,1)),22/24)-MAX(C18,6/24))+MAX(0,MIN(C18+IF(MOD(D18-C18,1)=0,1,MOD(D18-C18,1)),46/24)-MAX(C18,30/24))))*24*F18/(IF(MOD(D18-C18,1)=0,1,MOD(D18-C18,1))*24)),2))
F19: =IF(OR(C19="",D19=""),"",ROUND(MAX(0,IF(MOD(D19-C19,1)=0,1,MOD(D19-C19,1))*24-N(E19)/60),2)) | G19: =IF(OR(C19="",D19=""),"",ROUND(MAX(0,(IF(MOD(D19-C19,1)=0,1,MOD(D19-C19,1))-(MAX(0,MIN(C19+IF(MOD(D19-C19,1)=0,1,MOD(D19-C19,1)),22/24)-MAX(C19,6/24))+MAX(0,MIN(C19+IF(MOD(D19-C19,1)=0,1,MOD(D19-C19,1)),46/24)-MAX(C19,30/24))))*24*F19/(IF(MOD(D19-C19,1)=0,1,MOD(D19-C19,1))*24)),2))
F20: =IF(OR(C20="",D20=""),"",ROUND(MAX(0,IF(MOD(D20-C20,1)=0,1,MOD(D20-C20,1))*24-N(E20)/60),2)) | G20: =IF(OR(C20="",D20=""),"",ROUND(MAX(0,(IF(MOD(D20-C20,1)=0,1,MOD(D20-C20,1))-(MAX(0,MIN(C20+IF(MOD(D20-C20,1)=0,1,MOD(D20-C20,1)),22/24)-MAX(C20,6/24))+MAX(0,MIN(C20+IF(MOD(D20-C20,1)=0,1,MOD(D20-C20,1)),46/24)-MAX(C20,30/24))))*24*F20/(IF(MOD(D20-C20,1)=0,1,MOD(D20-C20,1))*24)),2))
F21: =IF(OR(C21="",D21=""),"",ROUND(MAX(0,IF(MOD(D21-C21,1)=0,1,MOD(D21-C21,1))*24-N(E21)/60),2)) | G21: =IF(OR(C21="",D21=""),"",ROUND(MAX(0,(IF(MOD(D21-C21,1)=0,1,MOD(D21-C21,1))-(MAX(0,MIN(C21+IF(MOD(D21-C21,1)=0,1,MOD(D21-C21,1)),22/24)-MAX(C21,6/24))+MAX(0,MIN(C21+IF(MOD(D21-C21,1)=0,1,MOD(D21-C21,1)),46/24)-MAX(C21,30/24))))*24*F21/(IF(MOD(D21-C21,1)=0,1,MOD(D21-C21,1))*24)),2))
... F30: =IF(OR(C30="",D30=""),"",ROUND(MAX(0,IF(MOD(D30-C30,1)=0,1,MOD(D30-C30,1))*24-N(E30)/60),2)) | G30: =IF(OR(C30="",D30=""),"",ROUND(MAX(0,(IF(MOD(D30-C30,1)=0,1,MOD(D30-C30,1))-(MAX(0,MIN(C30+IF(MOD(D30-C30,1)=0,1,MOD(D30-C30,1)),22/24)-MAX(C30,6/24))+MAX(0,MIN(C30+IF(MOD(D30-C30,1)=0,1,MOD(D30-C30,1)),46/24)-MAX(C30,30/24))))*24*F30/(IF(MOD(D30-C30,1)=0,1,MOD(D30-C30,1))*24)),2))

Sheet Kalendārs
A1: Datums | B1: Nedēļas diena | C1: Svētku diena / piezīme | D1: Dienas veids | E1: Pirmssvētku diena | F1: Norma, h | H1: Svētku dienas pēc likuma "Par svētku, atceres un atzīmējamām dienām". Pārceltās darba dienas pēc MK rīkojumiem (valsts budžeta iestādēm saistošas, pārējiem – ieteikums). Pirmssvētku dienā darba laiks saīsināts par 1 h (Darba likuma 135. pants); nepilnam darba laikam (dienas norma zem 7 h) saīsinājumu nepiemēro. Ja jūsu uzņēmums darba dienas nepārceļ, labojiet kolonnu "Dienas veids".
A2: 46023 | B2: ceturtdiena | C2: Jaungada diena | D2: Svētku diena | F2: =IF(OR(D2="Darba diena",D2="Pārcelta darba diena"),IF(AND(E2="Jā",Grafiks!$N$3>=7),Grafiks!$N$3-1,Grafiks!$N$3),0)
A3: 46024 | B3: piektdiena | C3: Darba diena pārcelta (MK rīkojums) | D3: Pārcelta brīvdiena | F3: =IF(OR(D3="Darba diena",D3="Pārcelta darba diena"),IF(AND(E3="Jā",Grafiks!$N$3>=7),Grafiks!$N$3-1,Grafiks!$N$3),0)
A4: 46025 | B4: sestdiena | D4: Brīvdiena | F4: =IF(OR(D4="Darba diena",D4="Pārcelta darba diena"),IF(AND(E4="Jā",Grafiks!$N$3>=7),Grafiks!$N$3-1,Grafiks!$N$3),0)
A5: 46026 | B5: svētdiena | D5: Brīvdiena | F5: =IF(OR(D5="Darba diena",D5="Pārcelta darba diena"),IF(AND(E5="Jā",Grafiks!$N$3>=7),Grafiks!$N$3-1,Grafiks!$N$3),0)
A6: 46027 | B6: pirmdiena | D6: Darba diena | F6: =IF(OR(D6="Darba diena",D6="Pārcelta darba diena"),IF(AND(E6="Jā",Grafiks!$N$3>=7),Grafiks!$N$3-1,Grafiks!$N$3),0)
A7: 46028 | B7: otrdiena | D7: Darba diena | F7: =IF(OR(D7="Darba diena",D7="Pārcelta darba diena"),IF(AND(E7="Jā",Grafiks!$N$3>=7),Grafiks!$N$3-1,Grafiks!$N$3),0)
A8: 46029 | B8: trešdiena | D8: Darba diena | F8: =IF(OR(D8="Darba diena",D8="Pārcelta darba diena"),IF(AND(E8="Jā",Grafiks!$N$3>=7),Grafiks!$N$3-1,Grafiks!$N$3),0)
A9: 46030 | B9: ceturtdiena | D9: Darba diena | F9: =IF(OR(D9="Darba diena",D9="Pārcelta darba diena"),IF(AND(E9="Jā",Grafiks!$N$3>=7),Grafiks!$N$3-1,Grafiks!$N$3),0)
A10: 46031 | B10: piektdiena | D10: Darba diena | F10: =IF(OR(D10="Darba diena",D10="Pārcelta darba diena"),IF(AND(E10="Jā",Grafiks!$N$3>=7),Grafiks!$N$3-1,Grafiks!$N$3),0)
A11: 46032 | B11: sestdiena | D11: Brīvdiena | F11: =IF(OR(D11="Darba diena",D11="Pārcelta darba diena"),IF(AND(E11="Jā",Grafiks!$N$3>=7),Grafiks!$N$3-1,Grafiks!$N$3),0)
A12: 46033 | B12: svētdiena | D12: Brīvdiena | F12: =IF(OR(D12="Darba diena",D12="Pārcelta darba diena"),IF(AND(E12="Jā",Grafiks!$N$3>=7),Grafiks!$N$3-1,Grafiks!$N$3),0)
A13: 46034 | B13: pirmdiena | D13: Darba diena | F13: =IF(OR(D13="Darba diena",D13="Pārcelta darba diena"),IF(AND(E13="Jā",Grafiks!$N$3>=7),Grafiks!$N$3-1,Grafiks!$N$3),0)
A14: 46035 | B14: otrdiena | D14: Darba diena | F14: =IF(OR(D14="Darba diena",D14="Pārcelta darba diena"),IF(AND(E14="Jā",Grafiks!$N$3>=7),Grafiks!$N$3-1,Grafiks!$N$3),0)
A15: 46036 | B15: trešdiena | D15: Darba diena | F15: =IF(OR(D15="Darba diena",D15="Pārcelta darba diena"),IF(AND(E15="Jā",Grafiks!$N$3>=7),Grafiks!$N$3-1,Grafiks!$N$3),0)
... A17: 46038 | B17: piektdiena | D17: Darba diena | F17: =IF(OR(D17="Darba diena",D17="Pārcelta darba diena"),IF(AND(E17="Jā",Grafiks!$N$3>=7),Grafiks!$N$3-1,Grafiks!$N$3),0)
A18: 46039 | B18: sestdiena | C18: Pārcelta darba diena (MK rīkojums) | D18: Pārcelta darba diena | F18: =IF(OR(D18="Darba diena",D18="Pārcelta darba diena"),IF(AND(E18="Jā",Grafiks!$N$3>=7),Grafiks!$N$3-1,Grafiks!$N$3),0)
A19: 46040 | B19: svētdiena | D19: Brīvdiena | F19: =IF(OR(D19="Darba diena",D19="Pārcelta darba diena"),IF(AND(E19="Jā",Grafiks!$N$3>=7),Grafiks!$N$3-1,Grafiks!$N$3),0)
A20: 46041 | B20: pirmdiena | D20: Darba diena | F20: =IF(OR(D20="Darba diena",D20="Pārcelta darba diena"),IF(AND(E20="Jā",Grafiks!$N$3>=7),Grafiks!$N$3-1,Grafiks!$N$3),0)
A21: 46042 | B21: otrdiena | D21: Darba diena | F21: =IF(OR(D21="Darba diena",D21="Pārcelta darba diena"),IF(AND(E21="Jā",Grafiks!$N$3>=7),Grafiks!$N$3-1,Grafiks!$N$3),0)
A22: 46043 | B22: trešdiena | D22: Darba diena | F22: =IF(OR(D22="Darba diena",D22="Pārcelta darba diena"),IF(AND(E22="Jā",Grafiks!$N$3>=7),Grafiks!$N$3-1,Grafiks!$N$3),0)
A23: 46044 | B23: ceturtdiena | D23: Darba diena | F23: =IF(OR(D23="Darba diena",D23="Pārcelta darba diena"),IF(AND(E23="Jā",Grafiks!$N$3>=7),Grafiks!$N$3-1,Grafiks!$N$3),0)
A24: 46045 | B24: piektdiena | D24: Darba diena | F24: =IF(OR(D24="Darba diena",D24="Pārcelta darba diena"),IF(AND(E24="Jā",Grafiks!$N$3>=7),Grafiks!$N$3-1,Grafiks!$N$3),0)
A25: 46046 | B25: sestdiena | D25: Brīvdiena | F25: =IF(OR(D25="Darba diena",D25="Pārcelta darba diena"),IF(AND(E25="Jā",Grafiks!$N$3>=7),Grafiks!$N$3-1,Grafiks!$N$3),0)
A26: 46047 | B26: svētdiena | D26: Brīvdiena | F26: =IF(OR(D26="Darba diena",D26="Pārcelta darba diena"),IF(AND(E26="Jā",Grafiks!$N$3>=7),Grafiks!$N$3-1,Grafiks!$N$3),0)
A27: 46048 | B27: pirmdiena | D27: Darba diena | F27: =IF(OR(D27="Darba diena",D27="Pārcelta darba diena"),IF(AND(E27="Jā",Grafiks!$N$3>=7),Grafiks!$N$3-1,Grafiks!$N$3),0)
A28: 46049 | B28: otrdiena | D28: Darba diena | F28: =IF(OR(D28="Darba diena",D28="Pārcelta darba diena"),IF(AND(E28="Jā",Grafiks!$N$3>=7),Grafiks!$N$3-1,Grafiks!$N$3),0)
A29: 46050 | B29: trešdiena | D29: Darba diena | F29: =IF(OR(D29="Darba diena",D29="Pārcelta darba diena"),IF(AND(E29="Jā",Grafiks!$N$3>=7),Grafiks!$N$3-1,Grafiks!$N$3),0)
A30: 46051 | B30: ceturtdiena | D30: Darba diena | F30: =IF(OR(D30="Darba diena",D30="Pārcelta darba diena"),IF(AND(E30="Jā",Grafiks!$N$3>=7),Grafiks!$N$3-1,Grafiks!$N$3),0)
... A92: 46113 | B92: trešdiena | D92: Darba diena | F92: =IF(OR(D92="Darba diena",D92="Pārcelta darba diena"),IF(AND(E92="Jā",Grafiks!$N$3>=7),Grafiks!$N$3-1,Grafiks!$N$3),0)
A93: 46114 | B93: ceturtdiena | D93: Darba diena | E93: Jā | F93: =IF(OR(D93="Darba diena",D93="Pārcelta darba diena"),IF(AND(E93="Jā",Grafiks!$N$3>=7),Grafiks!$N$3-1,Grafiks!$N$3),0)
A94: 46115 | B94: piektdiena | C94: Lielā Piektdiena | D94: Svētku diena | F94: =IF(OR(D94="Darba diena",D94="Pārcelta darba diena"),IF(AND(E94="Jā",Grafiks!$N$3>=7),Grafiks!$N$3-1,Grafiks!$N$3),0)
A95: 46116 | B95: sestdiena | D95: Brīvdiena | F95: =IF(OR(D95="Darba diena",D95="Pārcelta darba diena"),IF(AND(E95="Jā",Grafiks!$N$3>=7),Grafiks!$N$3-1,Grafiks!$N$3),0)
A96: 46117 | B96: svētdiena | C96: Pirmās Lieldienas | D96: Svētku diena | F96: =IF(OR(D96="Darba diena",D96="Pārcelta darba diena"),IF(AND(E96="Jā",Grafiks!$N$3>=7),Grafiks!$N$3-1,Grafiks!$N$3),0)
A97: 46118 | B97: pirmdiena | C97: Otrās Lieldienas | D97: Svētku diena | F97: =IF(OR(D97="Darba diena",D97="Pārcelta darba diena"),IF(AND(E97="Jā",Grafiks!$N$3>=7),Grafiks!$N$3-1,Grafiks!$N$3),0)
A98: 46119 | B98: otrdiena | D98: Darba diena | F98: =IF(OR(D98="Darba diena",D98="Pārcelta darba diena"),IF(AND(E98="Jā",Grafiks!$N$3>=7),Grafiks!$N$3-1,Grafiks!$N$3),0)
A99: 46120 | B99: trešdiena | D99: Darba diena | F99: =IF(OR(D99="Darba diena",D99="Pārcelta darba diena"),IF(AND(E99="Jā",Grafiks!$N$3>=7),Grafiks!$N$3-1,Grafiks!$N$3),0)
A100: 46121 | B100: ceturtdiena | D100: Darba diena | F100: =IF(OR(D100="Darba diena",D100="Pārcelta darba diena"),IF(AND(E100="Jā",Grafiks!$N$3>=7),Grafiks!$N$3-1,Grafiks!$N$3),0)
A101: 46122 | B101: piektdiena | D101: Darba diena | F101: =IF(OR(D101="Darba diena",D101="Pārcelta darba diena"),IF(AND(E101="Jā",Grafiks!$N$3>=7),Grafiks!$N$3-1,Grafiks!$N$3),0)
A102: 46123 | B102: sestdiena | D102: Brīvdiena | F102: =IF(OR(D102="Darba diena",D102="Pārcelta darba diena"),IF(AND(E102="Jā",Grafiks!$N$3>=7),Grafiks!$N$3-1,Grafiks!$N$3),0)
A103: 46124 | B103: svētdiena | D103: Brīvdiena | F103: =IF(OR(D103="Darba diena",D103="Pārcelta darba diena"),IF(AND(E103="Jā",Grafiks!$N$3>=7),Grafiks!$N$3-1,Grafiks!$N$3),0)
A104: 46125 | B104: pirmdiena | D104: Darba diena | F104: =IF(OR(D104="Darba diena",D104="Pārcelta darba diena"),IF(AND(E104="Jā",Grafiks!$N$3>=7),Grafiks!$N$3-1,Grafiks!$N$3),0)
A105: 46126 | B105: otrdiena | D105: Darba diena | F105: =IF(OR(D105="Darba diena",D105="Pārcelta darba diena"),IF(AND(E105="Jā",Grafiks!$N$3>=7),Grafiks!$N$3-1,Grafiks!$N$3),0)
A106: 46127 | B106: trešdiena | D106: Darba diena | F106: =IF(OR(D106="Darba diena",D106="Pārcelta darba diena"),IF(AND(E106="Jā",Grafiks!$N$3>=7),Grafiks!$N$3-1,Grafiks!$N$3),0)
A107: 46128 | B107: ceturtdiena | D107: Darba diena | F107: =IF(OR(D107="Darba diena",D107="Pārcelta darba diena"),IF(AND(E107="Jā",Grafiks!$N$3>=7),Grafiks!$N$3-1,Grafiks!$N$3),0)
A108: 46129 | B108: piektdiena | D108: Darba diena | F108: =IF(OR(D108="Darba diena",D108="Pārcelta darba diena"),IF(AND(E108="Jā",Grafiks!$N$3>=7),Grafiks!$N$3-1,Grafiks!$N$3),0)
A109: 46130 | B109: sestdiena | D109: Brīvdiena | F109: =IF(OR(D109="Darba diena",D109="Pārcelta darba diena"),IF(AND(E109="Jā",Grafiks!$N$3>=7),Grafiks!$N$3-1,Grafiks!$N$3),0)
... A120: 46141 | B120: trešdiena | D120: Darba diena | F120: =IF(OR(D120="Darba diena",D120="Pārcelta darba diena"),IF(AND(E120="Jā",Grafiks!$N$3>=7),Grafiks!$N$3-1,Grafiks!$N$3),0)
A121: 46142 | B121: ceturtdiena | D121: Darba diena | E121: Jā | F121: =IF(OR(D121="Darba diena",D121="Pārcelta darba diena"),IF(AND(E121="Jā",Grafiks!$N$3>=7),Grafiks!$N$3-1,Grafiks!$N$3),0)
A122: 46143 | B122: piektdiena | C122: Darba svētki, Latvijas Republikas Satversmes sapulces sasaukšanas diena | D122: Svētku diena | F122: =IF(OR(D122="Darba diena",D122="Pārcelta darba diena"),IF(AND(E122="Jā",Grafiks!$N$3>=7),Grafiks!$N$3-1,Grafiks!$N$3),0)
A123: 46144 | B123: sestdiena | D123: Brīvdiena | F123: =IF(OR(D123="Darba diena",D123="Pārcelta darba diena"),IF(AND(E123="Jā",Grafiks!$N$3>=7),Grafiks!$N$3-1,Grafiks!$N$3),0)
A124: 46145 | B124: svētdiena | D124: Brīvdiena | F124: =IF(OR(D124="Darba diena",D124="Pārcelta darba diena"),IF(AND(E124="Jā",Grafiks!$N$3>=7),Grafiks!$N$3-1,Grafiks!$N$3),0)
A125: 46146 | B125: pirmdiena | C125: Latvijas Republikas Neatkarības deklarācijas pasludināšanas diena | D125: Svētku diena | F125: =IF(OR(D125="Darba diena",D125="Pārcelta darba diena"),IF(AND(E125="Jā",Grafiks!$N$3>=7),Grafiks!$N$3-1,Grafiks!$N$3),0)
A126: 46147 | B126: otrdiena | D126: Darba diena | F126: =IF(OR(D126="Darba diena",D126="Pārcelta darba diena"),IF(AND(E126="Jā",Grafiks!$N$3>=7),Grafiks!$N$3-1,Grafiks!$N$3),0)
A127: 46148 | B127: trešdiena | D127: Darba diena | F127: =IF(OR(D127="Darba diena",D127="Pārcelta darba diena"),IF(AND(E127="Jā",Grafiks!$N$3>=7),Grafiks!$N$3-1,Grafiks!$N$3),0)
A128: 46149 | B128: ceturtdiena | D128: Darba diena | F128: =IF(OR(D128="Darba diena",D128="Pārcelta darba diena"),IF(AND(E128="Jā",Grafiks!$N$3>=7),Grafiks!$N$3-1,Grafiks!$N$3),0)
A129: 46150 | B129: piektdiena | D129: Darba diena | F129: =IF(OR(D129="Darba diena",D129="Pārcelta darba diena"),IF(AND(E129="Jā",Grafiks!$N$3>=7),Grafiks!$N$3-1,Grafiks!$N$3),0)
A130: 46151 | B130: sestdiena | D130: Brīvdiena | F130: =IF(OR(D130="Darba diena",D130="Pārcelta darba diena"),IF(AND(E130="Jā",Grafiks!$N$3>=7),Grafiks!$N$3-1,Grafiks!$N$3),0)
A131: 46152 | B131: svētdiena | C131: Mātes diena | D131: Svētku diena | F131: =IF(OR(D131="Darba diena",D131="Pārcelta darba diena"),IF(AND(E131="Jā",Grafiks!$N$3>=7),Grafiks!$N$3-1,Grafiks!$N$3),0)
A132: 46153 | B132: pirmdiena | D132: Darba diena | F132: =IF(OR(D132="Darba diena",D132="Pārcelta darba diena"),IF(AND(E132="Jā",Grafiks!$N$3>=7),Grafiks!$N$3-1,Grafiks!$N$3),0)
A133: 46154 | B133: otrdiena | D133: Darba diena | F133: =IF(OR(D133="Darba diena",D133="Pārcelta darba diena"),IF(AND(E133="Jā",Grafiks!$N$3>=7),Grafiks!$N$3-1,Grafiks!$N$3),0)
A134: 46155 | B134: trešdiena | D134: Darba diena | F134: =IF(OR(D134="Darba diena",D134="Pārcelta darba diena"),IF(AND(E134="Jā",Grafiks!$N$3>=7),Grafiks!$N$3-1,Grafiks!$N$3),0)
A135: 46156 | B135: ceturtdiena | D135: Darba diena | F135: =IF(OR(D135="Darba diena",D135="Pārcelta darba diena"),IF(AND(E135="Jā",Grafiks!$N$3>=7),Grafiks!$N$3-1,Grafiks!$N$3),0)
A136: 46157 | B136: piektdiena | D136: Darba diena | F136: =IF(OR(D136="Darba diena",D136="Pārcelta darba diena"),IF(AND(E136="Jā",Grafiks!$N$3>=7),Grafiks!$N$3-1,Grafiks!$N$3),0)
A137: 46158 | B137: sestdiena | D137: Brīvdiena | F137: =IF(OR(D137="Darba diena",D137="Pārcelta darba diena"),IF(AND(E137="Jā",Grafiks!$N$3>=7),Grafiks!$N$3-1,Grafiks!$N$3),0)
A138: 46159 | B138: svētdiena | D138: Brīvdiena | F138: =IF(OR(D138="Darba diena",D138="Pārcelta darba diena"),IF(AND(E138="Jā",Grafiks!$N$3>=7),Grafiks!$N$3-1,Grafiks!$N$3),0)
A139: 46160 | B139: pirmdiena | D139: Darba diena | F139: =IF(OR(D139="Darba diena",D139="Pārcelta darba diena"),IF(AND(E139="Jā",Grafiks!$N$3>=7),Grafiks!$N$3-1,Grafiks!$N$3),0)
A140: 46161 | B140: otrdiena | D140: Darba diena | F140: =IF(OR(D140="Darba diena",D140="Pārcelta darba diena"),IF(AND(E140="Jā",Grafiks!$N$3>=7),Grafiks!$N$3-1,Grafiks!$N$3),0)
A141: 46162 | B141: trešdiena | D141: Darba diena | F141: =IF(OR(D141="Darba diena",D141="Pārcelta darba diena"),IF(AND(E141="Jā",Grafiks!$N$3>=7),Grafiks!$N$3-1,Grafiks!$N$3),0)
A142: 46163 | B142: ceturtdiena | D142: Darba diena | F142: =IF(OR(D142="Darba diena",D142="Pārcelta darba diena"),IF(AND(E142="Jā",Grafiks!$N$3>=7),Grafiks!$N$3-1,Grafiks!$N$3),0)
A143: 46164 | B143: piektdiena | D143: Darba diena | F143: =IF(OR(D143="Darba diena",D143="Pārcelta darba diena"),IF(AND(E143="Jā",Grafiks!$N$3>=7),Grafiks!$N$3-1,Grafiks!$N$3),0)
A144: 46165 | B144: sestdiena | D144: Brīvdiena | F144: =IF(OR(D144="Darba diena",D144="Pārcelta darba diena"),IF(AND(E144="Jā",Grafiks!$N$3>=7),Grafiks!$N$3-1,Grafiks!$N$3),0)
A145: 46166 | B145: svētdiena | C145: Vasarsvētki | D145: Svētku diena | F145: =IF(OR(D145="Darba diena",D145="Pārcelta darba diena"),IF(AND(E145="Jā",Grafiks!$N$3>=7),Grafiks!$N$3-1,Grafiks!$N$3),0)
A146: 46167 | B146: pirmdiena | D146: Darba diena | F146: =IF(OR(D146="Darba diena",D146="Pārcelta darba diena"),IF(AND(E146="Jā",Grafiks!$N$3>=7),Grafiks!$N$3-1,Grafiks!$N$3),0)
A147: 46168 | B147: otrdiena | D147: Darba diena | F147: =IF(OR(D147="Darba diena",D147="Pārcelta darba diena"),IF(AND(E147="Jā",Grafiks!$N$3>=7),Grafiks!$N$3-1,Grafiks!$N$3),0)
A148: 46169 | B148: trešdiena | D148: Darba diena | F148: =IF(OR(D148="Darba diena",D148="Pārcelta darba diena"),IF(AND(E148="Jā",Grafiks!$N$3>=7),Grafiks!$N$3-1,Grafiks!$N$3),0)
A149: 46170 | B149: ceturtdiena | D149: Darba diena | F149: =IF(OR(D149="Darba diena",D149="Pārcelta darba diena"),IF(AND(E149="Jā",Grafiks!$N$3>=7),Grafiks!$N$3-1,Grafiks!$N$3),0)
A150: 46171 | B150: piektdiena | D150: Darba diena | F150: =IF(OR(D150="Darba diena",D150="Pārcelta darba diena"),IF(AND(E150="Jā",Grafiks!$N$3>=7),Grafiks!$N$3-1,Grafiks!$N$3),0)
A151: 46172 | B151: sestdiena | D151: Brīvdiena | F151: =IF(OR(D151="Darba diena",D151="Pārcelta darba diena"),IF(AND(E151="Jā",Grafiks!$N$3>=7),Grafiks!$N$3-1,Grafiks!$N$3),0)
A152: 46173 | B152: svētdiena | D152: Brīvdiena | F152: =IF(OR(D152="Darba diena",D152="Pārcelta darba diena"),IF(AND(E152="Jā",Grafiks!$N$3>=7),Grafiks!$N$3-1,Grafiks!$N$3),0)
A153: 46174 | B153: pirmdiena | D153: Darba diena | F153: =IF(OR(D153="Darba diena",D153="Pārcelta darba diena"),IF(AND(E153="Jā",Grafiks!$N$3>=7),Grafiks!$N$3-1,Grafiks!$N$3),0)
A154: 46175 | B154: otrdiena | D154: Darba diena | F154: =IF(OR(D154="Darba diena",D154="Pārcelta darba diena"),IF(AND(E154="Jā",Grafiks!$N$3>=7),Grafiks!$N$3-1,Grafiks!$N$3),0)
A155: 46176 | B155: trešdiena | D155: Darba diena | F155: =IF(OR(D155="Darba diena",D155="Pārcelta darba diena"),IF(AND(E155="Jā",Grafiks!$N$3>=7),Grafiks!$N$3-1,Grafiks!$N$3),0)
A156: 46177 | B156: ceturtdiena | D156: Darba diena | F156: =IF(OR(D156="Darba diena",D156="Pārcelta darba diena"),IF(AND(E156="Jā",Grafiks!$N$3>=7),Grafiks!$N$3-1,Grafiks!$N$3),0)
A157: 46178 | B157: piektdiena | D157: Darba diena | F157: =IF(OR(D157="Darba diena",D157="Pārcelta darba diena"),IF(AND(E157="Jā",Grafiks!$N$3>=7),Grafiks!$N$3-1,Grafiks!$N$3),0)
... A173: 46194 | B173: svētdiena | D173: Brīvdiena | F173: =IF(OR(D173="Darba diena",D173="Pārcelta darba diena"),IF(AND(E173="Jā",Grafiks!$N$3>=7),Grafiks!$N$3-1,Grafiks!$N$3),0)
A174: 46195 | B174: pirmdiena | C174: Darba diena pārcelta (MK rīkojums) | D174: Pārcelta brīvdiena | F174: =IF(OR(D174="Darba diena",D174="Pārcelta darba diena"),IF(AND(E174="Jā",Grafiks!$N$3>=7),Grafiks!$N$3-1,Grafiks!$N$3),0)
A175: 46196 | B175: otrdiena | C175: Līgo diena | D175: Svētku diena | F175: =IF(OR(D175="Darba diena",D175="Pārcelta darba diena"),IF(AND(E175="Jā",Grafiks!$N$3>=7),Grafiks!$N$3-1,Grafiks!$N$3),0)
A176: 46197 | B176: trešdiena | C176: Jāņu diena | D176: Svētku diena | F176: =IF(OR(D176="Darba diena",D176="Pārcelta darba diena"),IF(AND(E176="Jā",Grafiks!$N$3>=7),Grafiks!$N$3-1,Grafiks!$N$3),0)
A177: 46198 | B177: ceturtdiena | D177: Darba diena | F177: =IF(OR(D177="Darba diena",D177="Pārcelta darba diena"),IF(AND(E177="Jā",Grafiks!$N$3>=7),Grafiks!$N$3-1,Grafiks!$N$3),0)
A178: 46199 | B178: piektdiena | D178: Darba diena | F178: =IF(OR(D178="Darba diena",D178="Pārcelta darba diena"),IF(AND(E178="Jā",Grafiks!$N$3>=7),Grafiks!$N$3-1,Grafiks!$N$3),0)
A179: 46200 | B179: sestdiena | C179: Pārcelta darba diena (MK rīkojums) | D179: Pārcelta darba diena | E179: Jā | F179: =IF(OR(D179="Darba diena",D179="Pārcelta darba diena"),IF(AND(E179="Jā",Grafiks!$N$3>=7),Grafiks!$N$3-1,Grafiks!$N$3),0)
A180: 46201 | B180: svētdiena | D180: Brīvdiena | F180: =IF(OR(D180="Darba diena",D180="Pārcelta darba diena"),IF(AND(E180="Jā",Grafiks!$N$3>=7),Grafiks!$N$3-1,Grafiks!$N$3),0)
A181: 46202 | B181: pirmdiena | D181: Darba diena | F181: =IF(OR(D181="Darba diena",D181="Pārcelta darba diena"),IF(AND(E181="Jā",Grafiks!$N$3>=7),Grafiks!$N$3-1,Grafiks!$N$3),0)
A182: 46203 | B182: otrdiena | D182: Darba diena | F182: =IF(OR(D182="Darba diena",D182="Pārcelta darba diena"),IF(AND(E182="Jā",Grafiks!$N$3>=7),Grafiks!$N$3-1,Grafiks!$N$3),0)
A183: 46204 | B183: trešdiena | D183: Darba diena | F183: =IF(OR(D183="Darba diena",D183="Pārcelta darba diena"),IF(AND(E183="Jā",Grafiks!$N$3>=7),Grafiks!$N$3-1,Grafiks!$N$3),0)
A184: 46205 | B184: ceturtdiena | D184: Darba diena | F184: =IF(OR(D184="Darba diena",D184="Pārcelta darba diena"),IF(AND(E184="Jā",Grafiks!$N$3>=7),Grafiks!$N$3-1,Grafiks!$N$3),0)
A185: 46206 | B185: piektdiena | D185: Darba diena | F185: =IF(OR(D185="Darba diena",D185="Pārcelta darba diena"),IF(AND(E185="Jā",Grafiks!$N$3>=7),Grafiks!$N$3-1,Grafiks!$N$3),0)
A186: 46207 | B186: sestdiena | D186: Brīvdiena | F186: =IF(OR(D186="Darba diena",D186="Pārcelta darba diena"),IF(AND(E186="Jā",Grafiks!$N$3>=7),Grafiks!$N$3-1,Grafiks!$N$3),0)
A187: 46208 | B187: svētdiena | D187: Brīvdiena | F187: =IF(OR(D187="Darba diena",D187="Pārcelta darba diena"),IF(AND(E187="Jā",Grafiks!$N$3>=7),Grafiks!$N$3-1,Grafiks!$N$3),0)
...
